BEGIN:VCALENDAR
VERSION:2.0
PRODID:-// - ECPv6.15.20//NONSGML v1.0//EN
CALSCALE:GREGORIAN
METHOD:PUBLISH
X-ORIGINAL-URL:https://friendsmansfieldlibraryct.org
X-WR-CALDESC:Events for 
REFRESH-INTERVAL;VALUE=DURATION:PT1H
X-Robots-Tag:noindex
X-PUBLISHED-TTL:PT1H
BEGIN:VTIMEZONE
TZID:America/New_York
BEGIN:DAYLIGHT
TZOFFSETFROM:-0500
TZOFFSETTO:-0400
TZNAME:EDT
DTSTART:20250309T070000
END:DAYLIGHT
BEGIN:STANDARD
TZOFFSETFROM:-0400
TZOFFSETTO:-0500
TZNAME:EST
DTSTART:20251102T060000
END:STANDARD
BEGIN:DAYLIGHT
TZOFFSETFROM:-0500
TZOFFSETTO:-0400
TZNAME:EDT
DTSTART:20260308T070000
END:DAYLIGHT
BEGIN:STANDARD
TZOFFSETFROM:-0400
TZOFFSETTO:-0500
TZNAME:EST
DTSTART:20261101T060000
END:STANDARD
BEGIN:DAYLIGHT
TZOFFSETFROM:-0500
TZOFFSETTO:-0400
TZNAME:EDT
DTSTART:20270314T070000
END:DAYLIGHT
BEGIN:STANDARD
TZOFFSETFROM:-0400
TZOFFSETTO:-0500
TZNAME:EST
DTSTART:20271107T060000
END:STANDARD
END:VTIMEZONE
BEGIN:VTIMEZONE
TZID:America/Halifax
BEGIN:DAYLIGHT
TZOFFSETFROM:-0400
TZOFFSETTO:-0300
TZNAME:ADT
DTSTART:20250309T060000
END:DAYLIGHT
BEGIN:STANDARD
TZOFFSETFROM:-0300
TZOFFSETTO:-0400
TZNAME:AST
DTSTART:20251102T050000
END:STANDARD
BEGIN:DAYLIGHT
TZOFFSETFROM:-0400
TZOFFSETTO:-0300
TZNAME:ADT
DTSTART:20260308T060000
END:DAYLIGHT
BEGIN:STANDARD
TZOFFSETFROM:-0300
TZOFFSETTO:-0400
TZNAME:AST
DTSTART:20261101T050000
END:STANDARD
BEGIN:DAYLIGHT
TZOFFSETFROM:-0400
TZOFFSETTO:-0300
TZNAME:ADT
DTSTART:20270314T060000
END:DAYLIGHT
BEGIN:STANDARD
TZOFFSETFROM:-0300
TZOFFSETTO:-0400
TZNAME:AST
DTSTART:20271107T050000
END:STANDARD
END:VTIMEZONE
BEGIN:VTIMEZONE
TZID:America/New_York
BEGIN:DAYLIGHT
TZOFFSETFROM:-0500
TZOFFSETTO:-0400
TZNAME:EDT
DTSTART:20250309T070000
END:DAYLIGHT
BEGIN:STANDARD
TZOFFSETFROM:-0400
TZOFFSETTO:-0500
TZNAME:EST
DTSTART:20251102T060000
END:STANDARD
BEGIN:DAYLIGHT
TZOFFSETFROM:-0500
TZOFFSETTO:-0400
TZNAME:EDT
DTSTART:20260308T070000
END:DAYLIGHT
BEGIN:STANDARD
TZOFFSETFROM:-0400
TZOFFSETTO:-0500
TZNAME:EST
DTSTART:20261101T060000
END:STANDARD
BEGIN:DAYLIGHT
TZOFFSETFROM:-0500
TZOFFSETTO:-0400
TZNAME:EDT
DTSTART:20270314T070000
END:DAYLIGHT
BEGIN:STANDARD
TZOFFSETFROM:-0400
TZOFFSETTO:-0500
TZNAME:EST
DTSTART:20271107T060000
END:STANDARD
END:VTIMEZONE
BEGIN:VEVENT
DTSTART;TZID=America/New_York:20260502T090000
DTEND;TZID=America/New_York:20260502T120000
DTSTAMP:20260423T154833
CREATED:20230330T150926Z
LAST-MODIFIED:20260218T044135Z
UID:1399-1777712400-1777723200@friendsmansfieldlibraryct.org
SUMMARY:May Book Donation Drop-Off Day
DESCRIPTION:Limit of two (2) boxes (bank box sized) of books can be donated per household. Please remember\,  do not donate any textbooks\, magazines\, VHS or cassette tapes\, or any items in bad/damaged condition (i.e. moldy\, dusty\, broken\, incomplete\, signs of animal dwellings). They will be thrown out. \nAll book donations go towards the Friend’s Book Sale which will occur in the next month. Proceeds from the sale go towards the library’s programs\, children’s events\, purchase of new books and other services. \nFor more information\, please visit our Book Donation page.
URL:https://friendsmansfieldlibraryct.org/event/april-book-donation-drop-off-day/
LOCATION:Buchanan Auditorium\, 54 Warrenville Rd\, Mansfield Center\, CT\, 06250
END:VEVENT
BEGIN:VEVENT
DTSTART;TZID=America/Halifax:20260606T090000
DTEND;TZID=America/Halifax:20260606T120000
DTSTAMP:20260423T154833
CREATED:20230510T232043Z
LAST-MODIFIED:20260218T044441Z
UID:1418-1780736400-1780747200@friendsmansfieldlibraryct.org
SUMMARY:June Book Donation Drop-Off Day
DESCRIPTION:Limit of two (2) boxes (bank box sized) of books can be donated per household. Please remember\,  do not donate any textbooks\, magazines\, VHS or cassette tapes\, or any items in bad/damaged condition (i.e. moldy\, dusty\, broken\, incomplete\, signs of animal dwellings). They will be thrown out. \nAll book donations go towards the Friend’s Book Sale. Proceeds from the sale go towards the library’s programs\, children’s events\, purchase of new books and other services. \nFor more information\, please visit our Book Donation page.
URL:https://friendsmansfieldlibraryct.org/event/june-book-donation-drop-off-day/
LOCATION:Buchanan Auditorium\, 54 Warrenville Rd\, Mansfield Center\, CT\, 06250
END:VEVENT
BEGIN:VEVENT
DTSTART;TZID=America/New_York:20260612T170000
DTEND;TZID=America/New_York:20260612T190000
DTSTAMP:20260423T154833
CREATED:20250725T202155Z
LAST-MODIFIED:20260407T151915Z
UID:1648-1781283600-1781290800@friendsmansfieldlibraryct.org
SUMMARY:Members Only Pre-Sale Event
DESCRIPTION:Introducing a new perk for Members of the Friends of the Mansfield Library! \nMembers can  enjoy the opportunity to leisurely shop the book sale before the weekend crowds and competition! \nInterested in becoming a member? Visit our membership page to learn how!
URL:https://friendsmansfieldlibraryct.org/event/members-only-pre-sale-event/
LOCATION:Buchanan Auditorium\, 54 Warrenville Rd\, Mansfield Center\, CT\, 06250
END:VEVENT
BEGIN:VEVENT
DTSTART;TZID=America/New_York:20260613T090000
DTEND;TZID=America/New_York:20260613T160000
DTSTAMP:20260423T154833
CREATED:20250504T035310Z
LAST-MODIFIED:20260407T151615Z
UID:1606-1781341200-1781366400@friendsmansfieldlibraryct.org
SUMMARY:1-Day Summer Reading Book Sale
DESCRIPTION:Summer Reading starts here!\nJoin us for a special one-day sale where where we’ll feature\nchildren’s books\, adult NON-fiction\, as well as CDs\, DVDs games & puzzles for sale.\nFor more information about our book sale\, please click here. \n \n 
URL:https://friendsmansfieldlibraryct.org/event/1-day-summer-reading-book-sale/
LOCATION:Buchanan Auditorium\, 54 Warrenville Rd\, Mansfield Center\, CT\, 06250
END:VEVENT
BEGIN:VEVENT
DTSTART;TZID=America/New_York:20260711T090000
DTEND;TZID=America/New_York:20260711T120000
DTSTAMP:20260423T154833
CREATED:20230614T123338Z
LAST-MODIFIED:20260218T044530Z
UID:1426-1783760400-1783771200@friendsmansfieldlibraryct.org
SUMMARY:July Book Donation Drop-Off Day
DESCRIPTION:Limit of two (2) boxes (bank box sized) of books can be donated per household. Please remember\,  do not donate any textbooks\, magazines\, VHS or cassette tapes\, or any items in bad/damaged condition (i.e. moldy\, dusty\, broken\, incomplete\, signs of animal dwellings). They will be thrown out. \nAll book donations go towards the Friend’s Book Sale which will occur in the upcoming fall. Proceeds from the sale go towards the library’s programs\, children’s events\, purchase of new books and other services. \nFor more information\, please visit our Book Donation page. \n 
URL:https://friendsmansfieldlibraryct.org/event/july-book-donation-drop-off-day/
LOCATION:Buchanan Auditorium\, 54 Warrenville Rd\, Mansfield Center\, CT\, 06250
END:VEVENT
BEGIN:VEVENT
DTSTART;TZID=America/Halifax:20260801T090000
DTEND;TZID=America/Halifax:20260801T120000
DTSTAMP:20260423T154833
CREATED:20220827T130000Z
LAST-MODIFIED:20260218T044638Z
UID:1253-1785574800-1785585600@friendsmansfieldlibraryct.org
SUMMARY:August Book Donation Drop-Off Day
DESCRIPTION:Limit of two (2) boxes (bank box sized) of books can be donated per household. Please remember\,  do not donate any textbooks\, magazines\, VHS or cassette tapes\, or any items in bad/damaged condition (i.e. moldy\, dusty\, broken\, incomplete). They will be thrown out. \nAll book donations go towards the Friend’s Book Sale which will occur this fall. Proceeds from the sale go towards the library’s programs\, children’s events\, purchase of new books and other services. \nFor more information\, please visit our Book Donation page.
URL:https://friendsmansfieldlibraryct.org/event/august-book-donation-drop-off-day/
LOCATION:Buchanan Auditorium\, 54 Warrenville Rd\, Mansfield Center\, CT\, 06250
END:VEVENT
BEGIN:VEVENT
DTSTART;TZID=America/New_York:20260829T090000
DTEND;TZID=America/New_York:20260829T120000
DTSTAMP:20260423T154833
CREATED:20260218T045230Z
LAST-MODIFIED:20260218T045230Z
UID:1695-1787994000-1788004800@friendsmansfieldlibraryct.org
SUMMARY:2nd August Book Donation Drop-Off Day
DESCRIPTION:Limit of two (2) boxes (bank box sized) of books can be donated per household. Please remember\,  do not donate any textbooks\, magazines\, VHS or cassette tapes\, or any items in bad/damaged condition (i.e. moldy\, dusty\, broken\, incomplete). They will be thrown out. \nAll book donations go towards the Friend’s Book Sale which will occur this fall. Proceeds from the sale go towards the library’s programs\, children’s events\, purchase of new books and other services. \nFor more information\, please visit our Book Donation page.
URL:https://friendsmansfieldlibraryct.org/event/2nd-august-book-donation-drop-off-day/
LOCATION:Buchanan Auditorium\, 54 Warrenville Rd\, Mansfield Center\, CT\, 06250
END:VEVENT
BEGIN:VEVENT
DTSTART;TZID=America/New_York:20260913T160000
DTEND;TZID=America/New_York:20260913T190000
DTSTAMP:20260423T154833
CREATED:20240814T125600Z
LAST-MODIFIED:20260407T155856Z
UID:1560-1789315200-1789326000@friendsmansfieldlibraryct.org
SUMMARY:Annual Members Meeting Event!
DESCRIPTION:We are excited to announce that we are holding this year’s Annual Meeting at Hops 44 on Route 44 in Mansfield on Sunday\, September 13th. Doors open at 4pm\, with a brief meeting at 5pm\, followed by food. \nThere will be free appetizers and a cash bar. Joins us for some music\, and trivia as we celebrate and discuss supporting our wonderful public library. This event is free and open to everyone. \nWant to become a member of the Friends of the Mansfield Public Library? Join today! All dues go towards raising money for the library.
URL:https://friendsmansfieldlibraryct.org/event/annual-members-meeting-event/
LOCATION:Hops 44\, 625 Middle Turnpike\, Storrs\, CT
END:VEVENT
BEGIN:VEVENT
DTSTART;TZID=America/Halifax:20261003T090000
DTEND;TZID=America/Halifax:20261003T160000
DTSTAMP:20260423T154833
CREATED:20220811T054410Z
LAST-MODIFIED:20260407T152114Z
UID:1251-1791018000-1791043200@friendsmansfieldlibraryct.org
SUMMARY:Fall Book Sale (Day 1)
DESCRIPTION:We’re excited for the return of our fall book sale! Come and stock on up on books\, puzzles\, and more for the upcoming winter months! \nFor more information please visit our Book Sales page.
URL:https://friendsmansfieldlibraryct.org/event/fall-2022-book-sale-day-1/
LOCATION:Buchanan Auditorium\, 54 Warrenville Rd\, Mansfield Center\, CT\, 06250
END:VEVENT
BEGIN:VEVENT
DTSTART;TZID=America/Halifax:20261004T090000
DTEND;TZID=America/Halifax:20261004T150000
DTSTAMP:20260423T154833
CREATED:20221002T140000Z
LAST-MODIFIED:20260407T152313Z
UID:1247-1791104400-1791126000@friendsmansfieldlibraryct.org
SUMMARY:Fall Book Sale (Day 2)
DESCRIPTION:There’s still lots of great stuff to find at the conclusion of our annual Fall Book Sale!\nCome and stock on up on books\, puzzles\, and more for the upcoming winter months! \nFor more information please visit our Book Sales page.
URL:https://friendsmansfieldlibraryct.org/event/1247/
LOCATION:Buchanan Auditorium\, 54 Warrenville Rd\, Mansfield Center\, CT\, 06250
END:VEVENT
END:VCALENDAR