BEGIN:VCALENDAR
VERSION:2.0
PRODID:-// - ECPv6.15.20//NONSGML v1.0//EN
CALSCALE:GREGORIAN
METHOD:PUBLISH
X-ORIGINAL-URL:https://friendsmansfieldlibraryct.org
X-WR-CALDESC:Events for 
REFRESH-INTERVAL;VALUE=DURATION:PT1H
X-Robots-Tag:noindex
X-PUBLISHED-TTL:PT1H
BEGIN:VTIMEZONE
TZID:America/New_York
BEGIN:DAYLIGHT
TZOFFSETFROM:-0500
TZOFFSETTO:-0400
TZNAME:EDT
DTSTART:20220313T070000
END:DAYLIGHT
BEGIN:STANDARD
TZOFFSETFROM:-0400
TZOFFSETTO:-0500
TZNAME:EST
DTSTART:20221106T060000
END:STANDARD
BEGIN:DAYLIGHT
TZOFFSETFROM:-0500
TZOFFSETTO:-0400
TZNAME:EDT
DTSTART:20230312T070000
END:DAYLIGHT
BEGIN:STANDARD
TZOFFSETFROM:-0400
TZOFFSETTO:-0500
TZNAME:EST
DTSTART:20231105T060000
END:STANDARD
BEGIN:DAYLIGHT
TZOFFSETFROM:-0500
TZOFFSETTO:-0400
TZNAME:EDT
DTSTART:20240310T070000
END:DAYLIGHT
BEGIN:STANDARD
TZOFFSETFROM:-0400
TZOFFSETTO:-0500
TZNAME:EST
DTSTART:20241103T060000
END:STANDARD
BEGIN:DAYLIGHT
TZOFFSETFROM:-0500
TZOFFSETTO:-0400
TZNAME:EDT
DTSTART:20250309T070000
END:DAYLIGHT
BEGIN:STANDARD
TZOFFSETFROM:-0400
TZOFFSETTO:-0500
TZNAME:EST
DTSTART:20251102T060000
END:STANDARD
BEGIN:DAYLIGHT
TZOFFSETFROM:-0500
TZOFFSETTO:-0400
TZNAME:EDT
DTSTART:20260308T070000
END:DAYLIGHT
BEGIN:STANDARD
TZOFFSETFROM:-0400
TZOFFSETTO:-0500
TZNAME:EST
DTSTART:20261101T060000
END:STANDARD
BEGIN:DAYLIGHT
TZOFFSETFROM:-0500
TZOFFSETTO:-0400
TZNAME:EDT
DTSTART:20270314T070000
END:DAYLIGHT
BEGIN:STANDARD
TZOFFSETFROM:-0400
TZOFFSETTO:-0500
TZNAME:EST
DTSTART:20271107T060000
END:STANDARD
END:VTIMEZONE
BEGIN:VTIMEZONE
TZID:America/Halifax
BEGIN:DAYLIGHT
TZOFFSETFROM:-0400
TZOFFSETTO:-0300
TZNAME:ADT
DTSTART:20210314T060000
END:DAYLIGHT
BEGIN:STANDARD
TZOFFSETFROM:-0300
TZOFFSETTO:-0400
TZNAME:AST
DTSTART:20211107T050000
END:STANDARD
BEGIN:DAYLIGHT
TZOFFSETFROM:-0400
TZOFFSETTO:-0300
TZNAME:ADT
DTSTART:20220313T060000
END:DAYLIGHT
BEGIN:STANDARD
TZOFFSETFROM:-0300
TZOFFSETTO:-0400
TZNAME:AST
DTSTART:20221106T050000
END:STANDARD
BEGIN:DAYLIGHT
TZOFFSETFROM:-0400
TZOFFSETTO:-0300
TZNAME:ADT
DTSTART:20230312T060000
END:DAYLIGHT
BEGIN:STANDARD
TZOFFSETFROM:-0300
TZOFFSETTO:-0400
TZNAME:AST
DTSTART:20231105T050000
END:STANDARD
BEGIN:DAYLIGHT
TZOFFSETFROM:-0400
TZOFFSETTO:-0300
TZNAME:ADT
DTSTART:20240310T060000
END:DAYLIGHT
BEGIN:STANDARD
TZOFFSETFROM:-0300
TZOFFSETTO:-0400
TZNAME:AST
DTSTART:20241103T050000
END:STANDARD
BEGIN:DAYLIGHT
TZOFFSETFROM:-0400
TZOFFSETTO:-0300
TZNAME:ADT
DTSTART:20250309T060000
END:DAYLIGHT
BEGIN:STANDARD
TZOFFSETFROM:-0300
TZOFFSETTO:-0400
TZNAME:AST
DTSTART:20251102T050000
END:STANDARD
BEGIN:DAYLIGHT
TZOFFSETFROM:-0400
TZOFFSETTO:-0300
TZNAME:ADT
DTSTART:20260308T060000
END:DAYLIGHT
BEGIN:STANDARD
TZOFFSETFROM:-0300
TZOFFSETTO:-0400
TZNAME:AST
DTSTART:20261101T050000
END:STANDARD
END:VTIMEZONE
BEGIN:VEVENT
DTSTART;TZID=America/New_York:20260321T090000
DTEND;TZID=America/New_York:20260321T120000
DTSTAMP:20260423T172826
CREATED:20230302T074344Z
LAST-MODIFIED:20260218T043817Z
UID:1353-1774083600-1774094400@friendsmansfieldlibraryct.org
SUMMARY:March Book Donation Drop-Off Day
DESCRIPTION:Limit of two (2) boxes (bank box sized) of books can be donated per household. Please remember\,  do not donate any textbooks\, magazines\, VHS or cassette tapes\, or any items in bad/damaged condition (i.e. moldy\, dusty\, broken\, incomplete). They will be thrown out. \nAll book donations go towards the Friend’s Book Sale which will occur in the upcoming spring. Proceeds from the sale go towards the library’s programs\, children’s events\, purchase of new books and other services. \nFor more information\, please visit our Book Donation page.
URL:https://friendsmansfieldlibraryct.org/event/march-book-donation-drop-off-day/
LOCATION:Buchanan Auditorium\, 54 Warrenville Rd\, Mansfield Center\, CT\, 06250
END:VEVENT
BEGIN:VEVENT
DTSTART;TZID=America/New_York:20260301T090000
DTEND;TZID=America/New_York:20260301T150000
DTSTAMP:20260423T172826
CREATED:20231211T011240Z
LAST-MODIFIED:20251014T034207Z
UID:1492-1772355600-1772377200@friendsmansfieldlibraryct.org
SUMMARY:Winter Book Sale (Day 2)
DESCRIPTION:There’s still lots of great stuff that we’re putting out for you to find at the conclusion of our annual Winter Book Sale!\nCome and stock on up on books\, puzzles\, and more! \nFor more information please visit our Book Sales page.
URL:https://friendsmansfieldlibraryct.org/event/winter-book-sale-day-2/
LOCATION:Buchanan Auditorium\, 54 Warrenville Rd\, Mansfield Center\, CT\, 06250
END:VEVENT
BEGIN:VEVENT
DTSTART;TZID=America/New_York:20260228T090000
DTEND;TZID=America/New_York:20260228T160000
DTSTAMP:20260423T172826
CREATED:20231211T011036Z
LAST-MODIFIED:20251014T033906Z
UID:1488-1772269200-1772294400@friendsmansfieldlibraryct.org
SUMMARY:Winter Book Sale (Day 1)
DESCRIPTION:The Winter Book Sale is back\, with a chance to stock up on some cozy read both old and new\, as well as some other items to hep get you through this final stretch of winter weather. See you there! \nFor more information please visit our Book Sales page.
URL:https://friendsmansfieldlibraryct.org/event/winter-book-sale-day-1/
LOCATION:Buchanan Auditorium\, 54 Warrenville Rd\, Mansfield Center\, CT\, 06250
END:VEVENT
BEGIN:VEVENT
DTSTART;TZID=America/New_York:20260103T090000
DTEND;TZID=America/New_York:20260103T120000
DTSTAMP:20260423T172826
CREATED:20221218T072609Z
LAST-MODIFIED:20251014T032903Z
UID:1319-1767430800-1767441600@friendsmansfieldlibraryct.org
SUMMARY:January Book Donation Drop-Off Day
DESCRIPTION:Limit of two (2) boxes (bank box sized) of books can be donated per household. Please remember\, do not donate any textbooks\, magazines\, VHS or cassette tapes\, or any items in bad/damaged condition (i.e. moldy\, dusty\, broken\, incomplete). They will be thrown out. \nAll book donations go towards the Friend’s Book Sale which will occur next month. Proceeds from the sale go towards the library’s programs\, children’s events\, purchase of new books and other services. \nFor more information\, please visit our Book Donation page.
URL:https://friendsmansfieldlibraryct.org/event/january-book-donation-drop-off-day/
LOCATION:Buchanan Auditorium\, 54 Warrenville Rd\, Mansfield Center\, CT\, 06250
END:VEVENT
BEGIN:VEVENT
DTSTART;TZID=America/New_York:20251220T090000
DTEND;TZID=America/New_York:20251220T120000
DTSTAMP:20260423T172826
CREATED:20240814T121253Z
LAST-MODIFIED:20250916T033257Z
UID:1554-1766221200-1766232000@friendsmansfieldlibraryct.org
SUMMARY:Annual Gingerbread House Decorating Contest
DESCRIPTION:Join the friends for the return of our Gingerbread Decorating contest! \nThis event is open to all\, and the decorated houses will be displayed in the library for patrons to vote for. Prizes will be awarded. \nTo sign-up for this event\, please click HERE to register by December 15th to help us ensure there are enough materials available. \n*This event is available between 9am and 12pm so you do not need to be present for the full 3 hours.
URL:https://friendsmansfieldlibraryct.org/event/1st-annual-gingerbread-house-decorating-contest/
LOCATION:Buchanan Auditorium\, 54 Warrenville Rd\, Mansfield Center\, CT\, 06250
END:VEVENT
BEGIN:VEVENT
DTSTART;TZID=America/Halifax:20251101T090000
DTEND;TZID=America/Halifax:20251101T120000
DTSTAMP:20260423T172826
CREATED:20221029T051904Z
LAST-MODIFIED:20250710T022503Z
UID:1294-1761987600-1761998400@friendsmansfieldlibraryct.org
SUMMARY:November Book Donation Drop-Off Day
DESCRIPTION:Limit of two (2) boxes (bank box sized) of books can be donated per household. Please remember\,  do not donate any textbooks\, magazines\, VHS or cassette tapes\, or any items in bad/damaged condition (i.e. moldy\, dusty\, broken\, incomplete). They will be thrown out. \nAll book donations go towards the Friend’s Book Sale which will occur in the upcoming Winter Sale. Proceeds from the sale go towards the library’s programs\, children’s events\, purchase of new books and other services. \nFor more information\, please visit our Book Donation page.
URL:https://friendsmansfieldlibraryct.org/event/november-book-donation-drop-off-day/
LOCATION:Buchanan Auditorium\, 54 Warrenville Rd\, Mansfield Center\, CT\, 06250
END:VEVENT
BEGIN:VEVENT
DTSTART;TZID=America/Halifax:20250906T090000
DTEND;TZID=America/Halifax:20250906T120000
DTSTAMP:20260423T172826
CREATED:20220912T175242Z
LAST-MODIFIED:20250709T222438Z
UID:1264-1757149200-1757160000@friendsmansfieldlibraryct.org
SUMMARY:September Book Donation Drop-Off Day
DESCRIPTION:Last Book Donation Day before our annual fall book sale! \nLimit of two (2) boxes (bank box sized) of books can be donated per household. Please remember\,  do not donate any textbooks\, magazines\, VHS or cassette tapes\, or any items in bad/damaged condition (i.e. moldy\, dusty\, broken\, incomplete). They will be thrown out. \nAll book donations go towards the Friend’s Book Sale which will occur this fall. Proceeds from the sale go towards the library’s programs\, children’s events\, purchase of new books and other services. \nFor more information\, please visit our Book Donation page.
URL:https://friendsmansfieldlibraryct.org/event/september-book-donation-drop-off-day/
LOCATION:Buchanan Auditorium\, 54 Warrenville Rd\, Mansfield Center\, CT\, 06250
END:VEVENT
BEGIN:VEVENT
DTSTART;TZID=America/New_York:20250405T090000
DTEND;TZID=America/New_York:20250405T120000
DTSTAMP:20260423T172826
CREATED:20240213T184201Z
LAST-MODIFIED:20250109T031732Z
UID:1502-1743843600-1743854400@friendsmansfieldlibraryct.org
SUMMARY:April Book Donation Drop-Off Day
DESCRIPTION:Limit of two (2) boxes (bank box sized) of books can be donated per household. Please remember\,  do not donate any textbooks\, magazines\, VHS or cassette tapes\, or any items in bad/damaged condition (i.e. moldy\, dusty\, broken\, incomplete). They will be thrown out. \nAll book donations go towards the Friend’s Book Sale which will occur at the end of this spring. Proceeds from the sale go towards the library’s programs\, children’s events\, purchase of new books and other services. \nFor more information\, please visit our Book Donation page.
URL:https://friendsmansfieldlibraryct.org/event/april-book-donation-drop-off-day-2/
LOCATION:Buchanan Auditorium\, 54 Warrenville Rd\, Mansfield Center\, CT\, 06250
END:VEVENT
BEGIN:VEVENT
DTSTART;TZID=America/New_York:20250201T090000
DTEND;TZID=America/New_York:20250201T120000
DTSTAMP:20260423T172826
CREATED:20230125T073208Z
LAST-MODIFIED:20260207T122636Z
UID:1341-1738400400-1738411200@friendsmansfieldlibraryct.org
SUMMARY:February Book Donation Drop-Off Day
DESCRIPTION:Limit of two (2) boxes (bank box sized) of books can be donated per household. Please remember\, do not donate any textbooks\, magazines\, VHS or cassette tapes\, or any items in bad/damaged condition (i.e. moldy\, dusty\, broken\, incomplete). They will be thrown out. \nAll book donations go towards the Friend’s Book Sale which will occur in the upcoming spring. Proceeds from the sale go towards the library’s programs\, children’s events\, purchase of new books and other services. \nFor more information\, please visit our Book Donation page.
URL:https://friendsmansfieldlibraryct.org/event/february-book-donation-drop-off-day/
LOCATION:Buchanan Auditorium\, 54 Warrenville Rd\, Mansfield Center\, CT\, 06250
END:VEVENT
BEGIN:VEVENT
DTSTART;TZID=America/Halifax:20241207T090000
DTEND;TZID=America/Halifax:20241207T120000
DTSTAMP:20260423T172826
CREATED:20220625T190000Z
LAST-MODIFIED:20251113T035823Z
UID:483-1733562000-1733572800@friendsmansfieldlibraryct.org
SUMMARY:December Book Donation Drop-Off Day
DESCRIPTION:Limit of two (2) boxes (bank box sized) of books can be donated per household. Please remember\,  do not donate any textbooks\, magazines\, VHS or cassette tapes\, or any items in bad/damaged condition (i.e. moldy\, dusty\, broken\, incomplete). They will be thrown out. \nAll book donations go towards the Friend’s Book Sale which will occur in the upcoming Winter Sale. Proceeds from the sale go towards the library’s programs\, children’s events\, purchase of new books and other services. \nFor more information\, please visit our Book Donation page.
URL:https://friendsmansfieldlibraryct.org/event/book-donation-drop-off/
LOCATION:CT
END:VEVENT
BEGIN:VEVENT
DTSTART;TZID=America/Halifax:20241005T090000
DTEND;TZID=America/Halifax:20241005T120000
DTSTAMP:20260423T172826
CREATED:20230803T191518Z
LAST-MODIFIED:20250725T194834Z
UID:1444-1728118800-1728129600@friendsmansfieldlibraryct.org
SUMMARY:October Book Donation Drop-Off Day
DESCRIPTION:Limit of two (2) boxes (bank box sized) of books can be donated per household. Please remember\,  do not donate any textbooks\, magazines\, VHS or cassette tapes\, or any items in bad/damaged condition (i.e. moldy\, dusty\, broken\, incomplete). They will be thrown out. \nAll book donations go towards the Friend’s Book Sale which will occur in the upcoming Winter Sale. Proceeds from the sale go towards the library’s programs\, children’s events\, purchase of new books and other services. \nFor more information\, please visit our Book Donation page.
URL:https://friendsmansfieldlibraryct.org/event/october-book-donation-drop-off-day/
LOCATION:Buchanan Auditorium\, 54 Warrenville Rd\, Mansfield Center\, CT\, 06250
END:VEVENT
BEGIN:VEVENT
DTSTART;TZID=America/Halifax:20240824T110000
DTEND;TZID=America/Halifax:20240824T130000
DTSTAMP:20260423T172826
CREATED:20220811T193000Z
LAST-MODIFIED:20240820T191928Z
UID:778-1724497200-1724504400@friendsmansfieldlibraryct.org
SUMMARY:Summer Reading Finale Ice Cream Social - NEW DATE!
DESCRIPTION:Celebrate the end of this year’s Summer Reading Challenge with a family-friendly Ice Cream Social on the Library Lawn!\n\n\n\nFamilies and the library community are invited to stop by the Library Lawn between 11AM – 1PM on Saturday\, August 17th for a sweet treat to celebrate summer and the end of this year’s Youth Summer Reading Challenge! We hope you join us for lawn games\, music\, and family fun. \nFree ice cream will be provided by Red Barn Creamery! *Popsicles will be available for those with dairy restrictions. \nIn the event of high heat or rain\, this program may be moved to the Buchanan Auditorium.
URL:https://friendsmansfieldlibraryct.org/event/library-ice-cream-social/
LOCATION:Mansfield Public Library\, 54 Warrenville Road\, Mansfield City\, CT\, 06250\, United States
END:VEVENT
BEGIN:VEVENT
DTSTART;TZID=America/New_York:20240622T110000
DTEND;TZID=America/New_York:20240622T110000
DTSTAMP:20260423T172826
CREATED:20240622T030712Z
LAST-MODIFIED:20240622T030712Z
UID:1538-1719054000-1719054000@friendsmansfieldlibraryct.org
SUMMARY:Summer Reading Kick-Off
DESCRIPTION:Join us at our Summer Reading Kickoff Party for adults\, teens & kids! Bring your own picnic and have lunch on the library lawn while enjoying games\, activities\, face painting\, live music by the Hosmer Mountain Boys\, and more! Register for Summer Reading and get a free book courtesy of the Friends of the Mansfield Library. \nAll ages welcome. No registration required. In the event of rain or extreme temperatures\, this event will be held in the Buchanan Auditorium.
URL:https://friendsmansfieldlibraryct.org/event/summer-reading-kick-off/
LOCATION:Lawn
END:VEVENT
BEGIN:VEVENT
DTSTART;TZID=America/Halifax:20240609T090000
DTEND;TZID=America/Halifax:20240609T150000
DTSTAMP:20260423T172826
CREATED:20230125T074136Z
LAST-MODIFIED:20240317T153744Z
UID:1345-1717923600-1717945200@friendsmansfieldlibraryct.org
SUMMARY:Spring Book Sale (Day 2)
DESCRIPTION:We’re excited for the return of our book sale! \nFor more information please visit our Book Sales page.
URL:https://friendsmansfieldlibraryct.org/event/spring-2022-book-sale-day-2/
LOCATION:Buchanan Auditorium\, 54 Warrenville Rd\, Mansfield Center\, CT\, 06250
END:VEVENT
BEGIN:VEVENT
DTSTART;TZID=America/Halifax:20240608T090000
DTEND;TZID=America/Halifax:20240608T160000
DTSTAMP:20260423T172826
CREATED:20230125T073916Z
LAST-MODIFIED:20240317T153721Z
UID:1343-1717837200-1717862400@friendsmansfieldlibraryct.org
SUMMARY:Spring Book Sale (Day 1)
DESCRIPTION:We’re excited for the return of our book sale! \nFor more information please visit our Book Sales page.
URL:https://friendsmansfieldlibraryct.org/event/spring-2023-book-sale-day-1/
LOCATION:Buchanan Auditorium\, 54 Warrenville Rd\, Mansfield Center\, CT\, 06250
END:VEVENT
BEGIN:VEVENT
DTSTART;TZID=America/New_York:20240127T090000
DTEND;TZID=America/New_York:20240127T120000
DTSTAMP:20260423T172826
CREATED:20231208T232736Z
LAST-MODIFIED:20231209T011126Z
UID:1483-1706346000-1706356800@friendsmansfieldlibraryct.org
SUMMARY:2nd (!) January Book Donation Drop-Off Day
DESCRIPTION:Limit of two (2) boxes (bank box sized) of books can be donated per household. Please remember\, do not donate any textbooks\, magazines\, VHS or cassette tapes\, or any items in bad/damaged condition (i.e. moldy\, dusty\, broken\, incomplete). They will be thrown out. \nAll book donations go towards the Friend’s Book Sale which will occur in the upcoming weeks. Proceeds from the sale go towards the library’s programs\, children’s events\, purchase of new books and other services. \nFor more information\, please visit our Book Donation page.
URL:https://friendsmansfieldlibraryct.org/event/2nd-january-book-donation-drop-off-day/
LOCATION:Buchanan Auditorium\, 54 Warrenville Rd\, Mansfield Center\, CT\, 06250
END:VEVENT
BEGIN:VEVENT
DTSTART;VALUE=DATE:20231130
DTEND;VALUE=DATE:20231231
DTSTAMP:20260423T172826
CREATED:20221205T225425Z
LAST-MODIFIED:20231127T234027Z
UID:1303-1701302400-1703980799@friendsmansfieldlibraryct.org
SUMMARY:Holiday Book Sale
DESCRIPTION:Now through December 30th during the library’s normal business hours\, tables located inside the library by the entrance of the program room have gift-quality gently used children’s and adult books\, little books for stocking stuffers or small gifts\, new canvas bags\, and many Christmas books. \nPayment can be made at the sale table with check or cash – exact change is appreciated. \n 
URL:https://friendsmansfieldlibraryct.org/event/holiday-book-sale-2022/
LOCATION:Mansfield Public Library\, 54 Warrenville Road\, Mansfield City\, CT\, 06250\, United States
END:VEVENT
BEGIN:VEVENT
DTSTART;TZID=America/New_York:20230324T130000
DTEND;TZID=America/New_York:20230324T170000
DTSTAMP:20260423T172826
CREATED:20230323T182155Z
LAST-MODIFIED:20230323T182155Z
UID:1394-1679662800-1679677200@friendsmansfieldlibraryct.org
SUMMARY:Book Sale Set-up
DESCRIPTION:Volunteers who signed up to help with the set-up for our weekend event\, please arrive at the Buchanan Auditorium on Friday\, March 24th from 1:00pm until complete
URL:https://friendsmansfieldlibraryct.org/event/book-sale-set-up/
LOCATION:Buchanan Auditorium\, 54 Warrenville Rd\, Mansfield Center\, CT\, 06250
END:VEVENT
BEGIN:VEVENT
DTSTART;VALUE=DATE:20221016
DTEND;VALUE=DATE:20221028
DTSTAMP:20260423T172826
CREATED:20220506T043210Z
LAST-MODIFIED:20220506T043210Z
UID:927-1665878400-1666915199@friendsmansfieldlibraryct.org
SUMMARY:National Friends of Libraries Week
DESCRIPTION:United for Libraries will coordinate the 17th annual National Friends of Libraries Week Oct. 16-22\, 2022. The celebration offers a two-fold opportunity to celebrate Friends. Use the time to creatively promote your group in the community\, to raise awareness\, and to promote membership.
URL:https://friendsmansfieldlibraryct.org/event/national-friends-of-libraries-week/
LOCATION:CT
END:VEVENT
BEGIN:VEVENT
DTSTART;TZID=America/Halifax:20221014T190000
DTEND;TZID=America/Halifax:20221014T200000
DTSTAMP:20260423T172826
CREATED:20221014T230000Z
LAST-MODIFIED:20221013T055719Z
UID:638-1665774000-1665777600@friendsmansfieldlibraryct.org
SUMMARY:Annual Member's Meeting (virtual)
DESCRIPTION:Please note the change in time and details: \nMembers of the Friends of Mansfield Library are all welcomed to join us for our Annual Meeting \n**Due to fluctuating COVID trends\, we will be meeting online. Members will have already received an email with a link to the virtual meeting. We will re-schedule our guest speaker\, Betsy Pittman’s (University Archivist at the UConn Dodd Center) talk on preserving family records to Spring 2023 and hope to see you there! \nIt’s never too late to join the Friends of the Mansfield Library! Visit our Membership page to become a Member today!
URL:https://friendsmansfieldlibraryct.org/event/annual-members-meeting-guest-speaker/
LOCATION:Zoom
END:VEVENT
END:VCALENDAR