BEGIN:VCALENDAR
VERSION:2.0
PRODID:-// - ECPv6.15.20//NONSGML v1.0//EN
CALSCALE:GREGORIAN
METHOD:PUBLISH
X-ORIGINAL-URL:https://friendsmansfieldlibraryct.org
X-WR-CALDESC:Events for 
REFRESH-INTERVAL;VALUE=DURATION:PT1H
X-Robots-Tag:noindex
X-PUBLISHED-TTL:PT1H
BEGIN:VTIMEZONE
TZID:America/New_York
BEGIN:DAYLIGHT
TZOFFSETFROM:-0500
TZOFFSETTO:-0400
TZNAME:EDT
DTSTART:20250309T070000
END:DAYLIGHT
BEGIN:STANDARD
TZOFFSETFROM:-0400
TZOFFSETTO:-0500
TZNAME:EST
DTSTART:20251102T060000
END:STANDARD
BEGIN:DAYLIGHT
TZOFFSETFROM:-0500
TZOFFSETTO:-0400
TZNAME:EDT
DTSTART:20260308T070000
END:DAYLIGHT
BEGIN:STANDARD
TZOFFSETFROM:-0400
TZOFFSETTO:-0500
TZNAME:EST
DTSTART:20261101T060000
END:STANDARD
BEGIN:DAYLIGHT
TZOFFSETFROM:-0500
TZOFFSETTO:-0400
TZNAME:EDT
DTSTART:20270314T070000
END:DAYLIGHT
BEGIN:STANDARD
TZOFFSETFROM:-0400
TZOFFSETTO:-0500
TZNAME:EST
DTSTART:20271107T060000
END:STANDARD
END:VTIMEZONE
BEGIN:VEVENT
DTSTART;TZID=America/New_York:20260613T090000
DTEND;TZID=America/New_York:20260613T160000
DTSTAMP:20260423T170225
CREATED:20250504T035310Z
LAST-MODIFIED:20260407T151615Z
UID:1606-1781341200-1781366400@friendsmansfieldlibraryct.org
SUMMARY:1-Day Summer Reading Book Sale
DESCRIPTION:Summer Reading starts here!\nJoin us for a special one-day sale where where we’ll feature\nchildren’s books\, adult NON-fiction\, as well as CDs\, DVDs games & puzzles for sale.\nFor more information about our book sale\, please click here. \n \n 
URL:https://friendsmansfieldlibraryct.org/event/1-day-summer-reading-book-sale/
LOCATION:Buchanan Auditorium\, 54 Warrenville Rd\, Mansfield Center\, CT\, 06250
END:VEVENT
END:VCALENDAR